BEGIN:VCALENDAR
VERSION:2.0
PRODID:-//Cyrizan - ECPv6.15.20//NONSGML v1.0//EN
CALSCALE:GREGORIAN
METHOD:PUBLISH
X-ORIGINAL-URL:https://cyrizan.com
X-WR-CALDESC:Évènements pour Cyrizan
REFRESH-INTERVAL;VALUE=DURATION:PT1H
X-Robots-Tag:noindex
X-PUBLISHED-TTL:PT1H
BEGIN:VTIMEZONE
TZID:Europe/Paris
BEGIN:DAYLIGHT
TZOFFSETFROM:+0100
TZOFFSETTO:+0200
TZNAME:CEST
DTSTART:20230326T010000
END:DAYLIGHT
BEGIN:STANDARD
TZOFFSETFROM:+0200
TZOFFSETTO:+0100
TZNAME:CET
DTSTART:20231029T010000
END:STANDARD
BEGIN:DAYLIGHT
TZOFFSETFROM:+0100
TZOFFSETTO:+0200
TZNAME:CEST
DTSTART:20240331T010000
END:DAYLIGHT
BEGIN:STANDARD
TZOFFSETFROM:+0200
TZOFFSETTO:+0100
TZNAME:CET
DTSTART:20241027T010000
END:STANDARD
BEGIN:DAYLIGHT
TZOFFSETFROM:+0100
TZOFFSETTO:+0200
TZNAME:CEST
DTSTART:20250330T010000
END:DAYLIGHT
BEGIN:STANDARD
TZOFFSETFROM:+0200
TZOFFSETTO:+0100
TZNAME:CET
DTSTART:20251026T010000
END:STANDARD
END:VTIMEZONE
BEGIN:VEVENT
DTSTART;TZID=Europe/Paris:20240214T203000
DTEND;TZID=Europe/Paris:20240214T203000
DTSTAMP:20260423T101329
CREATED:20250919T073352Z
LAST-MODIFIED:20251007T085715Z
UID:13146-1707942600-1707942600@cyrizan.com
SUMMARY:Voyage sensoriel Sonore et Olfactif
DESCRIPTION:[cmsms_row][cmsms_column data_width= »1/1″][cmsms_button button_mont= »true » button_link= »https://www.billetweb.fr/voyage-sensoriel-sonore-et-olfactif » button_target= »blank » button_text_align= »center » button_font_weight= »normal » button_font_style= »normal » button_border_style= »solid » animation_delay= »0″]Réservation en ligne[/cmsms_button][cmsms_text] \nMERCREDI 14 FEVRIER 2024 DE 18H45 à 20H45 à Meylan\nAtelier découverte de 2h\, en petit groupe\, pour une expérience sensorielle alliant odorat et vibrations sonores.Idéal pour s’offrir un temps de retour à soi. Se détendre\, sentir\, se (re)sentir\, accueillir l’instant présent.\nBilletterie : https://www.billetweb.fr/voyage-sensoriel-sonore-et-olfactif\nAtelier animé par Isabelle Schillig naturopathe spécialisée en olfacto-émotionnelle\, Isabelle Messina\, sage femme\, acupunctrice\, approche vibratoire par le son\, et Cyrille Lannez\, hypnothérapeute\, magnétiseur et sonothérapeute.\nOuvert à tousCout : 30€ à régler avant l’atelier\n[/cmsms_text][/cmsms_column][cmsms_column data_width= »1/1″][/cmsms_column][/cmsms_row]
URL:https://cyrizan.com/evenement/voyage-sensoriel-sonore-et-olfactif/
LOCATION:Obee Cowork & Commeeting\, Boulevard des Alpes\, Meylan\, 38240\, France
CATEGORIES:Collaborations,Voyage sonore
ATTACH;FMTTYPE=image/jpeg:https://cyrizan.com/wp-content/uploads/2025/09/484869132_1154109719843264_6782892868037096238_n.jpg
ORGANIZER;CN="Cyrizan":MAILTO:contact@cyrizan.com
END:VEVENT
END:VCALENDAR